BEGIN:VCALENDAR
VERSION:2.0
PRODID:-//Squarespace Inc/Squarespace 6//v6//EN
BEGIN:VEVENT
UID:5de0b0485043fe7cebf54b60@squarespace.com
DTSTAMP:20191129T054523Z
DTSTART:20191206T090000Z
DTEND:20191206T113000Z
SUMMARY:Live Music @ Bermagui Country Club
END:VEVENT
END:VCALENDAR
