BEGIN:VCALENDAR
VERSION:2.0
PRODID:-//Squarespace Inc/Squarespace 6//v6//EN
BEGIN:VEVENT
UID:5de0b0d7d36d6241f1575497@squarespace.com
DTSTAMP:20191129T054736Z
DTSTART:20191227T090000Z
DTEND:20191227T113000Z
SUMMARY:Live Music @ Bermagui Country Club
END:VEVENT
END:VCALENDAR
