BEGIN:VCALENDAR
VERSION:2.0
PRODID:-//Squarespace Inc/Squarespace 6//v6//EN
BEGIN:VEVENT
UID:5de0b2a52104bb5045910f74@squarespace.com
DTSTAMP:20191129T055513Z
DTSTART:20191222T050000Z
DTEND:20191222T080000Z
SUMMARY:Live Music @ Bermagui Beach Hotel
END:VEVENT
END:VCALENDAR
