BEGIN:VCALENDAR
VERSION:2.0
PRODID:-//Squarespace Inc/Squarespace 6//v6//EN
BEGIN:VEVENT
UID:5e3107425140e4031d6d3950@squarespace.com
DTSTAMP:20200129T041725Z
DTSTART:20200220T040000Z
DTEND:20200220T060000Z
SUMMARY:Bermagui Growers Market
END:VEVENT
END:VCALENDAR
